BEGIN:VCALENDAR
VERSION:2.0
PRODID:-//Lean Excellence Center _en - ECPv4.9.5//NONSGML v1.0//EN
CALSCALE:GREGORIAN
METHOD:PUBLISH
X-WR-CALNAME:Lean Excellence Center _en
X-ORIGINAL-URL:https://leanexcellencecenter.com
X-WR-CALDESC:Events for Lean Excellence Center _en
BEGIN:VTIMEZONE
TZID:"UTC"
BEGIN:STANDARD
TZOFFSETFROM:+0000
TZOFFSETTO:+0000
TZNAME:UTC
DTSTART:20210101T000000
END:STANDARD
END:VTIMEZONE
BEGIN:VEVENT
DTSTART;TZID="UTC":20210405T100000
DTEND;TZID="UTC":20210405T123000
DTSTAMP:20260425T223220
CREATED:20210215T110905Z
LAST-MODIFIED:20210215T110905Z
UID:3175-1617616800-1617625800@leanexcellencecenter.com
SUMMARY:Visit to LEC – 05-04-2021 from 10:00 –12:30
DESCRIPTION:.fusion-button.button-1{width:auto;}Download PDF\n
URL:https://leanexcellencecenter.com/event/visit-lec-05-04-2021-1000-1230/
CATEGORIES:LEC
ATTACH;FMTTYPE=image/jpeg:https://leanexcellencecenter.com/wp-content/uploads/2021/02/lec_05042021.jpg
END:VEVENT
END:VCALENDAR