BEGIN:VCALENDAR
VERSION:2.0
PRODID:-//Lean Excellence Center _en - ECPv4.9.5//NONSGML v1.0//EN
CALSCALE:GREGORIAN
METHOD:PUBLISH
X-WR-CALNAME:Lean Excellence Center _en
X-ORIGINAL-URL:https://leanexcellencecenter.com
X-WR-CALDESC:Events for Lean Excellence Center _en
BEGIN:VTIMEZONE
TZID:"UTC"
BEGIN:STANDARD
TZOFFSETFROM:+0000
TZOFFSETTO:+0000
TZNAME:UTC
DTSTART:20220101T000000
END:STANDARD
END:VTIMEZONE
BEGIN:VEVENT
DTSTART;TZID="UTC":20220130T080000
DTEND;TZID="UTC":20221231T170000
DTSTAMP:20260422T224743
CREATED:20220130T151849Z
LAST-MODIFIED:20240130T152147Z
UID:3251-1643529600-1672506000@leanexcellencecenter.com
SUMMARY:Events 2022
DESCRIPTION: \n
URL:https://leanexcellencecenter.com/event/events-2022/
ATTACH;FMTTYPE=image/jpeg:https://leanexcellencecenter.com/wp-content/uploads/2017/02/Plano_LEC-2022-1-2.jpg
END:VEVENT
END:VCALENDAR