BEGIN:VCALENDAR
VERSION:2.0
PRODID:-//Lean Excellence Center _pt - ECPv4.9.5//NONSGML v1.0//EN
CALSCALE:GREGORIAN
METHOD:PUBLISH
X-WR-CALNAME:Lean Excellence Center _pt
X-ORIGINAL-URL:https://leanexcellencecenter.com/pt
X-WR-CALDESC:Events for Lean Excellence Center _pt
BEGIN:VTIMEZONE
TZID:"UTC"
BEGIN:STANDARD
TZOFFSETFROM:+0000
TZOFFSETTO:+0000
TZNAME:UTC
DTSTART:20190101T000000
END:STANDARD
END:VTIMEZONE
BEGIN:VEVENT
DTSTART;TZID="UTC":20190325T090000
DTEND;TZID="UTC":20190325T180000
DTSTAMP:20260423T020534
CREATED:20190204T151131Z
LAST-MODIFIED:20190204T151131Z
UID:1818-1553504400-1553536800@leanexcellencecenter.com
SUMMARY:Formação 4Lean School Warehouse Design
DESCRIPTION:.fusion-button.button-1{width:auto;}Download PDF\n
URL:https://leanexcellencecenter.com/pt/event/formacao-4lean-school-warehouse-design/
LOCATION:Lean Excellence Center
ATTACH;FMTTYPE=image/jpeg:https://leanexcellencecenter.com/pt/wp-content/uploads/sites/2/2019/02/Formação-Warehouse-Design.jpg
END:VEVENT
END:VCALENDAR