BEGIN:VCALENDAR
VERSION:2.0
PRODID:-//Lean Excellence Center _pt - ECPv4.9.5//NONSGML v1.0//EN
CALSCALE:GREGORIAN
METHOD:PUBLISH
X-WR-CALNAME:Lean Excellence Center _pt
X-ORIGINAL-URL:https://leanexcellencecenter.com/pt
X-WR-CALDESC:Events for Lean Excellence Center _pt
BEGIN:VTIMEZONE
TZID:"UTC"
BEGIN:STANDARD
TZOFFSETFROM:+0000
TZOFFSETTO:+0000
TZNAME:UTC
DTSTART:20170101T000000
END:STANDARD
END:VTIMEZONE
BEGIN:VEVENT
DTSTART;VALUE=DATE:20171127
DTEND;VALUE=DATE:20171128
DTSTAMP:20260426T022214
CREATED:20180115T123630Z
LAST-MODIFIED:20180115T123641Z
UID:1559-1511740800-1511827199@leanexcellencecenter.com
SUMMARY:Formação Conceitos Lean - 27 Novembro 2017
DESCRIPTION:No dia 27 de Novembro de 2017\, realizou-se a formação Conceitos Lean. Os Formandos tiveram oportunidade de compreender os conceitos básicos do Lean e compreender o percurso Lean.  \n
URL:https://leanexcellencecenter.com/pt/event/formacao-conceitos-lean-27-novembro2017/
LOCATION:Lean Excellence Center
CATEGORIES:4Lean
ATTACH;FMTTYPE=image/jpeg:https://leanexcellencecenter.com/pt/wp-content/uploads/sites/2/2018/01/Noticia-Conceitos-Lean.jpg
END:VEVENT
END:VCALENDAR