BEGIN:VCALENDAR
VERSION:2.0
PRODID:-//Lean Excellence Center _pt - ECPv4.9.5//NONSGML v1.0//EN
CALSCALE:GREGORIAN
METHOD:PUBLISH
X-WR-CALNAME:Lean Excellence Center _pt
X-ORIGINAL-URL:https://leanexcellencecenter.com/pt
X-WR-CALDESC:Events for Lean Excellence Center _pt
BEGIN:VTIMEZONE
TZID:"UTC"
BEGIN:STANDARD
TZOFFSETFROM:+0000
TZOFFSETTO:+0000
TZNAME:UTC
DTSTART:20190101T000000
END:STANDARD
END:VTIMEZONE
BEGIN:VEVENT
DTSTART;VALUE=DATE:20190415
DTEND;VALUE=DATE:20190416
DTSTAMP:20260423T003610
CREATED:20190416T190130Z
LAST-MODIFIED:20190416T201940Z
UID:1939-1555286400-1555372799@leanexcellencecenter.com
SUMMARY:Formação Conceitos Lean
DESCRIPTION:No dia 15 de Abril realizou-se a formação Conceitos Lean. Os Formandos tiveram oportunidade de compreender os conceitos básicos do Lean e compreender o percurso Lean. \n  \n \n  \n \n
URL:https://leanexcellencecenter.com/pt/event/formacao-conceitos-lean-8/
CATEGORIES:Leanop,LEC
END:VEVENT
END:VCALENDAR