BEGIN:VCALENDAR
VERSION:2.0
PRODID:-//Lean Excellence Center _pt - ECPv4.9.5//NONSGML v1.0//EN
CALSCALE:GREGORIAN
METHOD:PUBLISH
X-WR-CALNAME:Lean Excellence Center _pt
X-ORIGINAL-URL:https://leanexcellencecenter.com/pt
X-WR-CALDESC:Events for Lean Excellence Center _pt
BEGIN:VTIMEZONE
TZID:"UTC"
BEGIN:STANDARD
TZOFFSETFROM:+0000
TZOFFSETTO:+0000
TZNAME:UTC
DTSTART:20190101T000000
END:STANDARD
END:VTIMEZONE
BEGIN:VEVENT
DTSTART;TZID="UTC":20190724T090000
DTEND;TZID="UTC":20190724T180000
DTSTAMP:20260420T035915
CREATED:20190506T154124Z
LAST-MODIFIED:20190506T154124Z
UID:1965-1563958800-1563991200@leanexcellencecenter.com
SUMMARY:Formação A importância dos 5s's para a organização
DESCRIPTION:.fusion-button.button-1{width:auto;}Download PDF\n
URL:https://leanexcellencecenter.com/pt/event/formacao-importancia-dos-5ss-organizacao/
LOCATION:Lean Excellence Center
CATEGORIES:Leanop,LEC
ATTACH;FMTTYPE=image/jpeg:https://leanexcellencecenter.com/pt/wp-content/uploads/sites/2/2019/05/Formação-A-importância-dos-5ss-para-a-organização.jpg
END:VEVENT
END:VCALENDAR