BEGIN:VCALENDAR
VERSION:2.0
PRODID:-//Lean Excellence Center _pt - ECPv4.9.5//NONSGML v1.0//EN
CALSCALE:GREGORIAN
METHOD:PUBLISH
X-WR-CALNAME:Lean Excellence Center _pt
X-ORIGINAL-URL:https://leanexcellencecenter.com/pt
X-WR-CALDESC:Events for Lean Excellence Center _pt
BEGIN:VTIMEZONE
TZID:"UTC"
BEGIN:STANDARD
TZOFFSETFROM:+0000
TZOFFSETTO:+0000
TZNAME:UTC
DTSTART:20190101T000000
END:STANDARD
END:VTIMEZONE
BEGIN:VEVENT
DTSTART;VALUE=DATE:20190717
DTEND;VALUE=DATE:20190718
DTSTAMP:20260422T112447
CREATED:20190731T164816Z
LAST-MODIFIED:20190731T164824Z
UID:2041-1563321600-1563407999@leanexcellencecenter.com
SUMMARY:Formação Logistic Train
DESCRIPTION:No dia 17 de Julho de 2019\, realizou-se a formação Logistic Train. Os Formandos tiveram oportunidade de aprender as várias soluções existentes assim como projetar um comboio logístico para uma linha real. \n \n
URL:https://leanexcellencecenter.com/pt/event/formacao-logistic-train-5/
CATEGORIES:Leanop,LEC
ATTACH;FMTTYPE=image/jpeg:https://leanexcellencecenter.com/pt/wp-content/uploads/sites/2/2019/07/0001lec.jpg
END:VEVENT
END:VCALENDAR