BEGIN:VCALENDAR
VERSION:2.0
PRODID:-//Lean Excellence Center _pt - ECPv4.9.5//NONSGML v1.0//EN
CALSCALE:GREGORIAN
METHOD:PUBLISH
X-WR-CALNAME:Lean Excellence Center _pt
X-ORIGINAL-URL:https://leanexcellencecenter.com/pt
X-WR-CALDESC:Events for Lean Excellence Center _pt
BEGIN:VTIMEZONE
TZID:"UTC"
BEGIN:STANDARD
TZOFFSETFROM:+0000
TZOFFSETTO:+0000
TZNAME:UTC
DTSTART:20180101T000000
END:STANDARD
END:VTIMEZONE
BEGIN:VEVENT
DTSTART;TZID="UTC":20180619T090000
DTEND;TZID="UTC":20180619T180000
DTSTAMP:20260425T173049
CREATED:20180514T110734Z
LAST-MODIFIED:20180514T110757Z
UID:1687-1529398800-1529431200@leanexcellencecenter.com
SUMMARY:Formação Resolução de Problemas - 19 Junho 2018
DESCRIPTION:.fusion-button.button-1{width:auto;}Download PDF\n
URL:https://leanexcellencecenter.com/pt/event/formacao-resolucao-problemas-19-junho-2018/
LOCATION:Lean Excellence Center
CATEGORIES:Leanop,LEC
ATTACH;FMTTYPE=image/jpeg:https://leanexcellencecenter.com/pt/wp-content/uploads/sites/2/2018/05/Formacao-Resolucao-de-Problemas_19June.jpg
END:VEVENT
END:VCALENDAR