BEGIN:VCALENDAR
VERSION:2.0
PRODID:-//Lean Excellence Center _pt - ECPv4.9.5//NONSGML v1.0//EN
CALSCALE:GREGORIAN
METHOD:PUBLISH
X-WR-CALNAME:Lean Excellence Center _pt
X-ORIGINAL-URL:https://leanexcellencecenter.com/pt
X-WR-CALDESC:Events for Lean Excellence Center _pt
BEGIN:VTIMEZONE
TZID:"UTC"
BEGIN:STANDARD
TZOFFSETFROM:+0000
TZOFFSETTO:+0000
TZNAME:UTC
DTSTART:20190101T000000
END:STANDARD
END:VTIMEZONE
BEGIN:VEVENT
DTSTART;VALUE=DATE:20190805
DTEND;VALUE=DATE:20190806
DTSTAMP:20260419T203632
CREATED:20190807T095618Z
LAST-MODIFIED:20190807T095618Z
UID:2049-1564963200-1565049599@leanexcellencecenter.com
SUMMARY:Formação Resolução de Problemas
DESCRIPTION:No dia 05 de Agosto de 2019\, realizou-se a formação Resolução de Problemas. Os Formandos tiveram oportunidade de aprender a estruturar e a transformar problemas em oportunidades. \n  \n \n  \n \n  \n \n
URL:https://leanexcellencecenter.com/pt/event/formacao-resolucao-problemas-5/
ATTACH;FMTTYPE=image/jpeg:https://leanexcellencecenter.com/pt/wp-content/uploads/sites/2/2019/08/lec001.jpg
END:VEVENT
END:VCALENDAR