BEGIN:VCALENDAR
VERSION:2.0
PRODID:-//Lean Excellence Center _pt - ECPv4.9.5//NONSGML v1.0//EN
CALSCALE:GREGORIAN
METHOD:PUBLISH
X-WR-CALNAME:Lean Excellence Center _pt
X-ORIGINAL-URL:https://leanexcellencecenter.com/pt
X-WR-CALDESC:Events for Lean Excellence Center _pt
BEGIN:VTIMEZONE
TZID:"UTC"
BEGIN:STANDARD
TZOFFSETFROM:+0000
TZOFFSETTO:+0000
TZNAME:UTC
DTSTART:20190101T000000
END:STANDARD
END:VTIMEZONE
BEGIN:VEVENT
DTSTART;TZID="UTC":20190130T090000
DTEND;TZID="UTC":20190130T180000
DTSTAMP:20260423T040204
CREATED:20190110T140407Z
LAST-MODIFIED:20190129T142624Z
UID:1766-1548838800-1548871200@leanexcellencecenter.com
SUMMARY:Formação Workstation Design
DESCRIPTION:.fusion-button.button-1{width:auto;}Download PDF\n
URL:https://leanexcellencecenter.com/pt/event/formacao-workstation-design/
LOCATION:Lean Excellence Center
CATEGORIES:4Lean,LEC
ATTACH;FMTTYPE=image/jpeg:https://leanexcellencecenter.com/pt/wp-content/uploads/sites/2/2019/01/Formação-Workstation-Design.jpg
END:VEVENT
END:VCALENDAR