BEGIN:VCALENDAR
VERSION:2.0
PRODID:-//Lean Excellence Center _pt - ECPv4.9.5//NONSGML v1.0//EN
CALSCALE:GREGORIAN
METHOD:PUBLISH
X-WR-CALNAME:Lean Excellence Center _pt
X-ORIGINAL-URL:https://leanexcellencecenter.com/pt
X-WR-CALDESC:Events for Lean Excellence Center _pt
BEGIN:VTIMEZONE
TZID:"UTC"
BEGIN:STANDARD
TZOFFSETFROM:+0000
TZOFFSETTO:+0000
TZNAME:UTC
DTSTART:20190101T000000
END:STANDARD
END:VTIMEZONE
BEGIN:VEVENT
DTSTART;TZID="UTC":20190726T143000
DTEND;TZID="UTC":20190726T183000
DTSTAMP:20260420T021523
CREATED:20190503T154543Z
LAST-MODIFIED:20190503T154543Z
UID:1961-1564151400-1564165800@leanexcellencecenter.com
SUMMARY:IronCad – nível 1
DESCRIPTION:.fusion-button.button-1{width:auto;}Download PDF\n
URL:https://leanexcellencecenter.com/pt/event/ironcad-nivel-1-2/
LOCATION:Lean Excellence Center
CATEGORIES:IronCad,LEC
ATTACH;FMTTYPE=image/jpeg:https://leanexcellencecenter.com/pt/wp-content/uploads/sites/2/2019/05/Formação-Ironcad-nível-1.jpg
END:VEVENT
END:VCALENDAR