BEGIN:VCALENDAR
VERSION:2.0
PRODID:-//Lean Excellence Center _pt - ECPv4.9.5//NONSGML v1.0//EN
CALSCALE:GREGORIAN
METHOD:PUBLISH
X-WR-CALNAME:Lean Excellence Center _pt
X-ORIGINAL-URL:https://leanexcellencecenter.com/pt
X-WR-CALDESC:Events for Lean Excellence Center _pt
BEGIN:VTIMEZONE
TZID:"UTC"
BEGIN:STANDARD
TZOFFSETFROM:+0000
TZOFFSETTO:+0000
TZNAME:UTC
DTSTART:20180101T000000
END:STANDARD
END:VTIMEZONE
BEGIN:VEVENT
DTSTART;TZID="UTC":20180613T093000
DTEND;TZID="UTC":20180613T120000
DTSTAMP:20260425T173422
CREATED:20180316T091240Z
LAST-MODIFIED:20180316T091240Z
UID:1612-1528882200-1528891200@leanexcellencecenter.com
SUMMARY:Visita ao LEC - 13 Junho de 2018
DESCRIPTION:.fusion-button.button-1{width:auto;}Download PDF\n
URL:https://leanexcellencecenter.com/pt/event/visita-ao-lec-13-junho-2018/
LOCATION:Lean Excellence Center
CATEGORIES:LEC
ATTACH;FMTTYPE=image/jpeg:https://leanexcellencecenter.com/pt/wp-content/uploads/sites/2/2018/03/Visita-ao-LEC.jpg
END:VEVENT
END:VCALENDAR