BEGIN:VCALENDAR
VERSION:2.0
PRODID:-//Lean Excellence Center _pt - ECPv4.9.5//NONSGML v1.0//EN
CALSCALE:GREGORIAN
METHOD:PUBLISH
X-WR-CALNAME:Lean Excellence Center _pt
X-ORIGINAL-URL:https://leanexcellencecenter.com/pt
X-WR-CALDESC:Events for Lean Excellence Center _pt
BEGIN:VTIMEZONE
TZID:"UTC"
BEGIN:STANDARD
TZOFFSETFROM:+0000
TZOFFSETTO:+0000
TZNAME:UTC
DTSTART:20180101T000000
END:STANDARD
END:VTIMEZONE
BEGIN:VEVENT
DTSTART;TZID="UTC":20180604T090000
DTEND;TZID="UTC":20180604T123000
DTSTAMP:20260425T173049
CREATED:20180718T110755Z
LAST-MODIFIED:20180718T110755Z
UID:1710-1528102800-1528115400@leanexcellencecenter.com
SUMMARY:Visita ao LEC - 4 Junho 2018
DESCRIPTION:No dia 4 de Junho de 2018 o Lean Excellence Center recebeu os alunos de Pós-Graduação em Engenharia Industrial 4.0 da Universidade Federal do Paraná do Brasil.\nOs visitantes tiveram a oportunidade de conhecer o novo Dojo e fazer a visita guiada à nossa fabrica.  \n
URL:https://leanexcellencecenter.com/pt/event/visita-ao-lec-4-junho-2018/
LOCATION:Lean Excellence Center
CATEGORIES:LEC
ATTACH;FMTTYPE=image/png:https://leanexcellencecenter.com/pt/wp-content/uploads/sites/2/2018/07/lec.png
END:VEVENT
END:VCALENDAR