BEGIN:VCALENDAR
VERSION:2.0
PRODID:-//Lean Excellence Center _pt - ECPv4.9.5//NONSGML v1.0//EN
CALSCALE:GREGORIAN
METHOD:PUBLISH
X-WR-CALNAME:Lean Excellence Center _pt
X-ORIGINAL-URL:https://leanexcellencecenter.com/pt
X-WR-CALDESC:Events for Lean Excellence Center _pt
BEGIN:VTIMEZONE
TZID:"UTC"
BEGIN:STANDARD
TZOFFSETFROM:+0000
TZOFFSETTO:+0000
TZNAME:UTC
DTSTART:20190101T000000
END:STANDARD
END:VTIMEZONE
BEGIN:VEVENT
DTSTART;VALUE=DATE:20190722
DTEND;VALUE=DATE:20190723
DTSTAMP:20260420T085033
CREATED:20190725T155151Z
LAST-MODIFIED:20190725T155151Z
UID:2035-1563753600-1563839999@leanexcellencecenter.com
SUMMARY:Visita  ao LEC
DESCRIPTION:No dia 22 de Julho de 2019 realizou-se a Visita ao Lean Excellence Center. Os visitantes tiveram a oportunidade de conhecer o novo Training Dojo e de visitar a nossa fábrica. Empresas presentes na visita: \n \nTestemunhos:\n“O dojo muito interessante\, inspira para uma possível aplicação na empresa”\n“Possibilidade de ver casos práticos”\n“Muito interessante o evento”\n“Gostei do que vi\, há soluções que gostei muito pelo pragmatismo que permite\, sem esforço do operador”\n“Recomendo a visita” \n
URL:https://leanexcellencecenter.com/pt/event/visita-ao-lec-8/
CATEGORIES:LEC
END:VEVENT
END:VCALENDAR