BEGIN:VCALENDAR
VERSION:2.0
PRODID:-//Lean Excellence Center _pt - ECPv4.9.5//NONSGML v1.0//EN
CALSCALE:GREGORIAN
METHOD:PUBLISH
X-WR-CALNAME:Lean Excellence Center _pt
X-ORIGINAL-URL:https://leanexcellencecenter.com/pt
X-WR-CALDESC:Events for Lean Excellence Center _pt
BEGIN:VTIMEZONE
TZID:"UTC"
BEGIN:STANDARD
TZOFFSETFROM:+0000
TZOFFSETTO:+0000
TZNAME:UTC
DTSTART:20170101T000000
END:STANDARD
END:VTIMEZONE
BEGIN:VEVENT
DTSTART;TZID="UTC":20171121T090000
DTEND;TZID="UTC":20171121T180000
DTSTAMP:20260426T035520
CREATED:20171019T125734Z
LAST-MODIFIED:20171019T125808Z
UID:1503-1511254800-1511287200@leanexcellencecenter.com
SUMMARY:Formação Supermarket Design - 21 Novembro 2017
DESCRIPTION:.fusion-button.button-1{width:auto;}Download PDF\n
URL:https://leanexcellencecenter.com/pt/event/formacao-supermarket-design-21-novembro-2017/
LOCATION:Lean Excellence Center
CATEGORIES:Leanop
ATTACH;FMTTYPE=image/jpeg:https://leanexcellencecenter.com/pt/wp-content/uploads/sites/2/2017/10/Formacao_Supermarket_Design.jpg
END:VEVENT
END:VCALENDAR