BEGIN:VCALENDAR
VERSION:2.0
PRODID:-//Lean Excellence Center _pt - ECPv4.9.5//NONSGML v1.0//EN
CALSCALE:GREGORIAN
METHOD:PUBLISH
X-WR-CALNAME:Lean Excellence Center _pt
X-ORIGINAL-URL:https://leanexcellencecenter.com/pt
X-WR-CALDESC:Events for Lean Excellence Center _pt
BEGIN:VTIMEZONE
TZID:"UTC"
BEGIN:STANDARD
TZOFFSETFROM:+0000
TZOFFSETTO:+0000
TZNAME:UTC
DTSTART:20170101T000000
END:STANDARD
END:VTIMEZONE
BEGIN:VEVENT
DTSTART;TZID="UTC":20171204T090000
DTEND;TZID="UTC":20171204T180000
DTSTAMP:20260426T022745
CREATED:20171103T204237Z
LAST-MODIFIED:20171103T204237Z
UID:1519-1512378000-1512410400@leanexcellencecenter.com
SUMMARY:Formação Lean no Desenvolvimento do Produto (Volume 1) - 4 Dezembro 2017
DESCRIPTION:.fusion-button.button-1{width:auto;}Download PDF\n
URL:https://leanexcellencecenter.com/pt/event/formacao-lean-no-desenvolvimento-do-produto-volume-1-4-dezembro-2017/
LOCATION:Lean Excellence Center
CATEGORIES:Leanop
ATTACH;FMTTYPE=image/jpeg:https://leanexcellencecenter.com/pt/wp-content/uploads/sites/2/2017/11/Formacao_Lean_no_Desenvolvimento_do_Produto.jpg
END:VEVENT
END:VCALENDAR