BEGIN:VCALENDAR
VERSION:2.0
PRODID:-//Lean Excellence Center _pt - ECPv4.9.5//NONSGML v1.0//EN
CALSCALE:GREGORIAN
METHOD:PUBLISH
X-WR-CALNAME:Lean Excellence Center _pt
X-ORIGINAL-URL:https://leanexcellencecenter.com/pt
X-WR-CALDESC:Events for Lean Excellence Center _pt
BEGIN:VTIMEZONE
TZID:"UTC"
BEGIN:STANDARD
TZOFFSETFROM:+0000
TZOFFSETTO:+0000
TZNAME:UTC
DTSTART:20180101T000000
END:STANDARD
END:VTIMEZONE
BEGIN:VEVENT
DTSTART;TZID="UTC":20180207T090000
DTEND;TZID="UTC":20180207T180000
DTSTAMP:20260425T233300
CREATED:20180115T122519Z
LAST-MODIFIED:20180115T122637Z
UID:1555-1517994000-1518026400@leanexcellencecenter.com
SUMMARY:Formação Resolução de Problemas – 07 Fevereiro 2018
DESCRIPTION:.fusion-button.button-1{width:auto;}Download PDF\n
URL:https://leanexcellencecenter.com/pt/event/formacao-resolucao-problemas-07-fevereiro-2018/
LOCATION:Lean Excellence Center
CATEGORIES:Leanop
ATTACH;FMTTYPE=image/jpeg:https://leanexcellencecenter.com/pt/wp-content/uploads/sites/2/2018/01/Formacao_Resolucao_de_Problemas.jpg
END:VEVENT
END:VCALENDAR