BEGIN:VCALENDAR
VERSION:2.0
PRODID:-//Lean Excellence Center _pt - ECPv4.9.5//NONSGML v1.0//EN
CALSCALE:GREGORIAN
METHOD:PUBLISH
X-WR-CALNAME:Lean Excellence Center _pt
X-ORIGINAL-URL:https://leanexcellencecenter.com/pt
X-WR-CALDESC:Events for Lean Excellence Center _pt
BEGIN:VTIMEZONE
TZID:"UTC"
BEGIN:STANDARD
TZOFFSETFROM:+0000
TZOFFSETTO:+0000
TZNAME:UTC
DTSTART:20180101T000000
END:STANDARD
END:VTIMEZONE
BEGIN:VEVENT
DTSTART;TZID="UTC":20180221T093000
DTEND;TZID="UTC":20180221T120000
DTSTAMP:20260425T233559
CREATED:20180128T224257Z
LAST-MODIFIED:20180128T224257Z
UID:1570-1519205400-1519214400@leanexcellencecenter.com
SUMMARY:Visita ao LEC - 21 Fevereiro de 2018
DESCRIPTION:.fusion-button.button-1{width:auto;}Download PDF\n
URL:https://leanexcellencecenter.com/pt/event/visita-ao-lec-21-fevereiro-2018/
LOCATION:Lean Excellence Center
CATEGORIES:LEC
ATTACH;FMTTYPE=image/jpeg:https://leanexcellencecenter.com/pt/wp-content/uploads/sites/2/2018/01/Visita-ao-LEC-2.jpg
END:VEVENT
BEGIN:VEVENT
DTSTART;TZID="UTC":20180221T143000
DTEND;TZID="UTC":20180221T183000
DTSTAMP:20260425T233559
CREATED:20180128T232205Z
LAST-MODIFIED:20180128T232205Z
UID:1573-1519223400-1519237800@leanexcellencecenter.com
SUMMARY:Sessão dos Grupos Lean - 21 Fevereiro de 2018
DESCRIPTION:.fusion-button.button-2{width:auto;}Download PDF\n
URL:https://leanexcellencecenter.com/pt/event/sessao-dos-grupos-lean-21-fevereiro-2018/
LOCATION:Lean Excellence Center
CATEGORIES:Leanop
ATTACH;FMTTYPE=image/jpeg:https://leanexcellencecenter.com/pt/wp-content/uploads/sites/2/2018/01/Convite-Grupo-Lean-25a-edicao-21-02-2018.jpg
END:VEVENT
END:VCALENDAR