BEGIN:VCALENDAR
VERSION:2.0
PRODID:-//Lean Excellence Center _pt - ECPv4.9.5//NONSGML v1.0//EN
CALSCALE:GREGORIAN
METHOD:PUBLISH
X-WR-CALNAME:Lean Excellence Center _pt
X-ORIGINAL-URL:https://leanexcellencecenter.com/pt
X-WR-CALDESC:Events for Lean Excellence Center _pt
BEGIN:VTIMEZONE
TZID:"UTC"
BEGIN:STANDARD
TZOFFSETFROM:+0000
TZOFFSETTO:+0000
TZNAME:UTC
DTSTART:20180101T000000
END:STANDARD
END:VTIMEZONE
BEGIN:VEVENT
DTSTART;TZID="UTC":20180418T090000
DTEND;TZID="UTC":20180418T180000
DTSTAMP:20260425T205558
CREATED:20180326T094817Z
LAST-MODIFIED:20180326T094817Z
UID:1654-1524042000-1524074400@leanexcellencecenter.com
SUMMARY:Formação Logistic Train - 18 Abril 2018
DESCRIPTION:.fusion-button.button-1{width:auto;}Download PDF\n
URL:https://leanexcellencecenter.com/pt/event/formacao-logistic-train-18-abril-2018/
LOCATION:Lean Excellence Center
CATEGORIES:4Lean,LEC
ATTACH;FMTTYPE=image/jpeg:https://leanexcellencecenter.com/pt/wp-content/uploads/sites/2/2018/03/Formacao-Logistic-Train.jpg
END:VEVENT
BEGIN:VEVENT
DTSTART;TZID="UTC":20180418T090000
DTEND;TZID="UTC":20180418T180000
DTSTAMP:20260425T205558
CREATED:20180514T103627Z
LAST-MODIFIED:20180514T103627Z
UID:1675-1524042000-1524074400@leanexcellencecenter.com
SUMMARY:Formação Logistic Train - 18 Abril 2018
DESCRIPTION:No dia 18 de Abril de 2018 realizou-se a formação Logistic Train.\nOs Formandos tiveram oportunidade de projetar e desenhar comboios logísticos\, como compreender os diferentes tipos de vantagens e desvantagens de comboios logísticos.  \n
URL:https://leanexcellencecenter.com/pt/event/formacao-logistic-train-18-abril-2018-2/
LOCATION:Lean Excellence Center
CATEGORIES:4Lean,LEC
ATTACH;FMTTYPE=image/jpeg:https://leanexcellencecenter.com/pt/wp-content/uploads/sites/2/2018/05/Noticia-Logistic-Train.jpg
END:VEVENT
END:VCALENDAR