BEGIN:VCALENDAR
VERSION:2.0
PRODID:-//Lean Excellence Center _pt - ECPv4.9.5//NONSGML v1.0//EN
CALSCALE:GREGORIAN
METHOD:PUBLISH
X-WR-CALNAME:Lean Excellence Center _pt
X-ORIGINAL-URL:https://leanexcellencecenter.com/pt
X-WR-CALDESC:Events for Lean Excellence Center _pt
BEGIN:VTIMEZONE
TZID:"UTC"
BEGIN:STANDARD
TZOFFSETFROM:+0000
TZOFFSETTO:+0000
TZNAME:UTC
DTSTART:20180101T000000
END:STANDARD
END:VTIMEZONE
BEGIN:VEVENT
DTSTART;TZID="UTC":20180503T090000
DTEND;TZID="UTC":20180503T180000
DTSTAMP:20260425T190718
CREATED:20180514T105411Z
LAST-MODIFIED:20180514T105411Z
UID:1681-1525338000-1525370400@leanexcellencecenter.com
SUMMARY:Lean Solutions - 3 Maio 2018
DESCRIPTION:No dia 3 de Maio de 2018\, decorreu o Lean Solutions no novo dojo do Lean Excellence Center. Os convidados tiveram oportunidade de conhecer uma introdução ao Lean apresentado pela LeanOp e de conhecer algumas  soluções Lean apresentadas pela 4Lean.  \n
URL:https://leanexcellencecenter.com/pt/event/lean-solutions-3-maio-2018/
LOCATION:Lean Excellence Center
CATEGORIES:4Lean,Leanop,LEC
ATTACH;FMTTYPE=image/jpeg:https://leanexcellencecenter.com/pt/wp-content/uploads/sites/2/2018/05/Noticia-Lean-Solutions.jpg
END:VEVENT
END:VCALENDAR