BEGIN:VCALENDAR
VERSION:2.0
PRODID:-//Lean Excellence Center _pt - ECPv4.9.5//NONSGML v1.0//EN
CALSCALE:GREGORIAN
METHOD:PUBLISH
X-WR-CALNAME:Lean Excellence Center _pt
X-ORIGINAL-URL:https://leanexcellencecenter.com/pt
X-WR-CALDESC:Events for Lean Excellence Center _pt
BEGIN:VTIMEZONE
TZID:"UTC"
BEGIN:STANDARD
TZOFFSETFROM:+0000
TZOFFSETTO:+0000
TZNAME:UTC
DTSTART:20180101T000000
END:STANDARD
END:VTIMEZONE
BEGIN:VEVENT
DTSTART;TZID="UTC":20180509T090000
DTEND;TZID="UTC":20180509T180000
DTSTAMP:20260425T190828
CREATED:20180316T133258Z
LAST-MODIFIED:20180316T134506Z
UID:1626-1525856400-1525888800@leanexcellencecenter.com
SUMMARY:Formação Mini-Company - 9 Maio 2018
DESCRIPTION:.fusion-button.button-1{width:auto;}Download PDF\n
URL:https://leanexcellencecenter.com/pt/event/formacao-mini-company-9-may-2018/
LOCATION:Lean Excellence Center
CATEGORIES:Leanop,LEC
ATTACH;FMTTYPE=image/jpeg:https://leanexcellencecenter.com/pt/wp-content/uploads/sites/2/2018/03/Formacao-Mini-company.jpg
END:VEVENT
BEGIN:VEVENT
DTSTART;TZID="UTC":20180509T090000
DTEND;TZID="UTC":20180509T180000
DTSTAMP:20260425T190828
CREATED:20180514T110132Z
LAST-MODIFIED:20180514T110132Z
UID:1684-1525856400-1525888800@leanexcellencecenter.com
SUMMARY:Formação Mini-Company - 9 de Maio 2018
DESCRIPTION:No dia 9 de Maio de 2018\, os formandos tiveram a oportunidade de compreender como liderar uma equipa de modo a alcançar o melhor de cada membro\, compreender como “coach” equipas e compreender como motivar as pessoas.  \n
URL:https://leanexcellencecenter.com/pt/event/formacao-mini-company-9-maio-2018/
LOCATION:Lean Excellence Center
CATEGORIES:Leanop,LEC
ATTACH;FMTTYPE=image/jpeg:https://leanexcellencecenter.com/pt/wp-content/uploads/sites/2/2018/05/Noticia-Mini-company.jpg
END:VEVENT
END:VCALENDAR