BEGIN:VCALENDAR
VERSION:2.0
PRODID:-//Lean Excellence Center _pt - ECPv4.9.5//NONSGML v1.0//EN
CALSCALE:GREGORIAN
METHOD:PUBLISH
X-WR-CALNAME:Lean Excellence Center _pt
X-ORIGINAL-URL:https://leanexcellencecenter.com/pt
X-WR-CALDESC:Events for Lean Excellence Center _pt
BEGIN:VTIMEZONE
TZID:"UTC"
BEGIN:STANDARD
TZOFFSETFROM:+0000
TZOFFSETTO:+0000
TZNAME:UTC
DTSTART:20180101T000000
END:STANDARD
END:VTIMEZONE
BEGIN:VEVENT
DTSTART;TZID="UTC":20180926T090000
DTEND;TZID="UTC":20180926T180000
DTSTAMP:20260425T122743
CREATED:20180718T121434Z
LAST-MODIFIED:20180718T121434Z
UID:1719-1537952400-1537984800@leanexcellencecenter.com
SUMMARY:Formação Conceitos Lean - 26 Setembro 2018
DESCRIPTION:.fusion-button.button-1{width:auto;}Download PDF\n
URL:https://leanexcellencecenter.com/pt/event/formacao-conceitos-lean-26-setembro-2018/
LOCATION:Lean Excellence Center
CATEGORIES:Leanop,LEC
ATTACH;FMTTYPE=image/png:https://leanexcellencecenter.com/pt/wp-content/uploads/sites/2/2018/07/Formacao-Conceitos-Lean.png
END:VEVENT
END:VCALENDAR