BEGIN:VCALENDAR
VERSION:2.0
PRODID:-//Lean Excellence Center _pt - ECPv4.9.5//NONSGML v1.0//EN
CALSCALE:GREGORIAN
METHOD:PUBLISH
X-WR-CALNAME:Lean Excellence Center _pt
X-ORIGINAL-URL:https://leanexcellencecenter.com/pt
X-WR-CALDESC:Events for Lean Excellence Center _pt
BEGIN:VTIMEZONE
TZID:"UTC"
BEGIN:STANDARD
TZOFFSETFROM:+0000
TZOFFSETTO:+0000
TZNAME:UTC
DTSTART:20180101T000000
END:STANDARD
END:VTIMEZONE
BEGIN:VEVENT
DTSTART;TZID="UTC":20181130T143000
DTEND;TZID="UTC":20181130T183000
DTSTAMP:20260423T073921
CREATED:20181106T190954Z
LAST-MODIFIED:20181106T190954Z
UID:1737-1543588200-1543602600@leanexcellencecenter.com
SUMMARY:Grupos Lean Serviços
DESCRIPTION:.fusion-button.button-1{width:auto;}Download PDF\n
URL:https://leanexcellencecenter.com/pt/event/grupos-lean-servicos/
LOCATION:Lutécia Smart Design Hotel – Lisboa\, Av. Frei Miguel Contreiras 52\, Lisboa\, Lisboa\, 1749-086\, Portugal
CATEGORIES:Leanop
ATTACH;FMTTYPE=image/jpeg:https://leanexcellencecenter.com/pt/wp-content/uploads/sites/2/2018/11/Convite-Grupos-Lean-Servicos.jpg
END:VEVENT
END:VCALENDAR