BEGIN:VCALENDAR
VERSION:2.0
PRODID:-//Lean Excellence Center _pt - ECPv4.9.5//NONSGML v1.0//EN
CALSCALE:GREGORIAN
METHOD:PUBLISH
X-WR-CALNAME:Lean Excellence Center _pt
X-ORIGINAL-URL:https://leanexcellencecenter.com/pt
X-WR-CALDESC:Events for Lean Excellence Center _pt
BEGIN:VTIMEZONE
TZID:"UTC"
BEGIN:STANDARD
TZOFFSETFROM:+0000
TZOFFSETTO:+0000
TZNAME:UTC
DTSTART:20190101T000000
END:STANDARD
END:VTIMEZONE
BEGIN:VEVENT
DTSTART;VALUE=DATE:20190213
DTEND;VALUE=DATE:20190214
DTSTAMP:20260423T040305
CREATED:20190215T200231Z
LAST-MODIFIED:20190215T200231Z
UID:1851-1550016000-1550102399@leanexcellencecenter.com
SUMMARY:Visita  ao LEC
DESCRIPTION:No dia 13 de Fevereiro de 2019 realizou-se a Visita ao Lean Excellence Center. Os visitantes tiveram a oportunidade de conhecer o novo Training Dojo e de visitar a nossa fábrica. \n \n
URL:https://leanexcellencecenter.com/pt/event/visita-ao-lec-4/
LOCATION:Lean Excellence Center
CATEGORIES:LEC
END:VEVENT
BEGIN:VEVENT
DTSTART;TZID="UTC":20190213T093000
DTEND;TZID="UTC":20190213T120000
DTSTAMP:20260423T040305
CREATED:20190121T131819Z
LAST-MODIFIED:20190129T142607Z
UID:1775-1550050200-1550059200@leanexcellencecenter.com
SUMMARY:VISITA AO LEC
DESCRIPTION:.fusion-button.button-1{width:auto;}Download PDF\n
URL:https://leanexcellencecenter.com/pt/event/visita-ao-lec/
LOCATION:Rua 5\, 115 – Zona Industrial de Rio Meão\, Zona Industrial de Rio Meão\, Rua 5\, 115\, Rio Meão\, Rio Meão\, 4520-475\, Portugal
ATTACH;FMTTYPE=image/jpeg:https://leanexcellencecenter.com/pt/wp-content/uploads/sites/2/2019/01/Visita-ao-LECv3.jpg
END:VEVENT
END:VCALENDAR