BEGIN:VCALENDAR
VERSION:2.0
PRODID:-//Lean Excellence Center _pt - ECPv4.9.5//NONSGML v1.0//EN
CALSCALE:GREGORIAN
METHOD:PUBLISH
X-WR-CALNAME:Lean Excellence Center _pt
X-ORIGINAL-URL:https://leanexcellencecenter.com/pt
X-WR-CALDESC:Events for Lean Excellence Center _pt
BEGIN:VTIMEZONE
TZID:"UTC"
BEGIN:STANDARD
TZOFFSETFROM:+0000
TZOFFSETTO:+0000
TZNAME:UTC
DTSTART:20190101T000000
END:STANDARD
END:VTIMEZONE
BEGIN:VEVENT
DTSTART;VALUE=DATE:20190218
DTEND;VALUE=DATE:20190219
DTSTAMP:20260423T040306
CREATED:20190219T183754Z
LAST-MODIFIED:20190219T183754Z
UID:1856-1550448000-1550534399@leanexcellencecenter.com
SUMMARY:Formação Conceitos Lean
DESCRIPTION:No dia 18 de Fevereiro de 2019 realizou-se a formação Conceitos Lean. Os Formandos tiveram oportunidade de compreender os conceitos básicos do Lean e compreender o percurso Lean. \n  \n \n  \n \n
URL:https://leanexcellencecenter.com/pt/event/formacao-conceitos-lean-6/
LOCATION:Lean Excellence Center
CATEGORIES:Leanop,LEC
END:VEVENT
BEGIN:VEVENT
DTSTART;TZID="UTC":20190218T090000
DTEND;TZID="UTC":20190218T180000
DTSTAMP:20260423T040306
CREATED:20190121T133814Z
LAST-MODIFIED:20190129T142559Z
UID:1780-1550480400-1550512800@leanexcellencecenter.com
SUMMARY:Formação Conceitos Lean
DESCRIPTION:.fusion-button.button-1{width:auto;}Download PDF\n
URL:https://leanexcellencecenter.com/pt/event/formacao-conceitos-lean-3/
LOCATION:Lean Excellence Center
CATEGORIES:Leanop,LEC
ATTACH;FMTTYPE=image/jpeg:https://leanexcellencecenter.com/pt/wp-content/uploads/sites/2/2019/01/Formação-Conceitos-Lean-1.jpg
END:VEVENT
END:VCALENDAR