BEGIN:VCALENDAR
VERSION:2.0
PRODID:-//Lean Excellence Center _pt - ECPv4.9.5//NONSGML v1.0//EN
CALSCALE:GREGORIAN
METHOD:PUBLISH
X-WR-CALNAME:Lean Excellence Center _pt
X-ORIGINAL-URL:https://leanexcellencecenter.com/pt
X-WR-CALDESC:Events for Lean Excellence Center _pt
BEGIN:VTIMEZONE
TZID:"UTC"
BEGIN:STANDARD
TZOFFSETFROM:+0000
TZOFFSETTO:+0000
TZNAME:UTC
DTSTART:20190101T000000
END:STANDARD
END:VTIMEZONE
BEGIN:VEVENT
DTSTART;VALUE=DATE:20190327
DTEND;VALUE=DATE:20190328
DTSTAMP:20260423T020541
CREATED:20190401T153813Z
LAST-MODIFIED:20190403T153155Z
UID:1902-1553644800-1553731199@leanexcellencecenter.com
SUMMARY:11ª Sessão dos Grupos Lean Serviços
DESCRIPTION:No dia 27 de Março de 2019\, decorreu os Grupos Lean Serviços em Lisboa. Numa primeira parte\, os participantes tiveram oportunidade de ouvir um caso prático sobre o tema “O Voluntariado de Competências na EDP LeanSchool & IPSS” apresentado pela EDP. Na segunda parte realizou-se a habitual discussão em grupos mais pequenos\, para partilha de conhecimentos. \nObrigado EDP pela apresentação do caso prático. \n \n  \n \n  \n \n  \n \n
URL:https://leanexcellencecenter.com/pt/event/11a-sessao-dos-grupos-lean-servicos/
LOCATION:Lean Excellence Center
CATEGORIES:Leanop,LEC
ATTACH;FMTTYPE=image/jpeg:https://leanexcellencecenter.com/pt/wp-content/uploads/sites/2/2019/04/111.jpg
END:VEVENT
END:VCALENDAR