BEGIN:VCALENDAR
VERSION:2.0
PRODID:-//Lean Excellence Center _pt - ECPv4.9.5//NONSGML v1.0//EN
CALSCALE:GREGORIAN
METHOD:PUBLISH
X-WR-CALNAME:Lean Excellence Center _pt
X-ORIGINAL-URL:https://leanexcellencecenter.com/pt
X-WR-CALDESC:Events for Lean Excellence Center _pt
BEGIN:VTIMEZONE
TZID:"UTC"
BEGIN:STANDARD
TZOFFSETFROM:+0000
TZOFFSETTO:+0000
TZNAME:UTC
DTSTART:20190101T000000
END:STANDARD
END:VTIMEZONE
BEGIN:VEVENT
DTSTART;VALUE=DATE:20190708
DTEND;VALUE=DATE:20190709
DTSTAMP:20260422T194911
CREATED:20190709T154639Z
LAST-MODIFIED:20190710T164618Z
UID:2017-1562544000-1562630399@leanexcellencecenter.com
SUMMARY:Formação Quick Gemba Training - MTO
DESCRIPTION:No dia 08 de Julho de 2019\, realizou-se o novo Conceito de formação\, Quick Gemba Training – Trabalhar por encomenda (MTO).  \nOs Formandos tiveram oportunidade de aprender vários conceitos e paradigmas sobre trabalhar por encomenda (MTO). \n
URL:https://leanexcellencecenter.com/pt/event/formacao-quick-gemba-training-mto/
LOCATION:Lean Excellence Center
CATEGORIES:Leanop,LEC
ATTACH;FMTTYPE=image/jpeg:https://leanexcellencecenter.com/pt/wp-content/uploads/sites/2/2019/07/1lec.jpg
END:VEVENT
BEGIN:VEVENT
DTSTART;TZID="UTC":20190708T143000
DTEND;TZID="UTC":20190708T170000
DTSTAMP:20260422T194911
CREATED:20190617T163218Z
LAST-MODIFIED:20190617T163218Z
UID:2013-1562596200-1562605200@leanexcellencecenter.com
SUMMARY:Quick Gemba Training – Trabalhar por encomenda (MTO)
DESCRIPTION:.fusion-button.button-1{width:auto;}Download PDF\n
URL:https://leanexcellencecenter.com/pt/event/quick-gemba-training-trabalhar-encomenda-mto/
LOCATION:Lean Excellence Center
CATEGORIES:Leanop,LEC
ATTACH;FMTTYPE=image/jpeg:https://leanexcellencecenter.com/pt/wp-content/uploads/sites/2/2019/06/Formação-Gemba-Quick-TrainingTrabalhar-por-encomenda-MTO.jpg
END:VEVENT
END:VCALENDAR