BEGIN:VCALENDAR
VERSION:2.0
PRODID:-//Lean Excellence Center _pt - ECPv4.9.5//NONSGML v1.0//EN
CALSCALE:GREGORIAN
METHOD:PUBLISH
X-WR-CALNAME:Lean Excellence Center _pt
X-ORIGINAL-URL:https://leanexcellencecenter.com/pt
X-WR-CALDESC:Events for Lean Excellence Center _pt
BEGIN:VTIMEZONE
TZID:"UTC"
BEGIN:STANDARD
TZOFFSETFROM:+0000
TZOFFSETTO:+0000
TZNAME:UTC
DTSTART:20200101T000000
END:STANDARD
END:VTIMEZONE
BEGIN:VEVENT
DTSTART;TZID="UTC":20200518T143000
DTEND;TZID="UTC":20200518T170000
DTSTAMP:20260422T035953
CREATED:20200220T040016Z
LAST-MODIFIED:20200220T040016Z
UID:2357-1589812200-1589821200@leanexcellencecenter.com
SUMMARY:Formação Quick Gemba – Warehousing - 18 Maio 2020
DESCRIPTION:.fusion-button.button-1{width:auto;}Download PDF\n
URL:https://leanexcellencecenter.com/pt/event/formacao-quick-gemba-warehousing-18-maio-2020/
LOCATION:Lean Excellence Center
CATEGORIES:Leanop,LEC
ATTACH;FMTTYPE=image/jpeg:https://leanexcellencecenter.com/pt/wp-content/uploads/sites/2/2020/02/4Lean_Formacao_Gemba_Quick_Training_Warehouse_18Maio.jpg
END:VEVENT
END:VCALENDAR